BEGIN:VCALENDAR
VERSION:2.0
PRODID:-// Downtown San Diego Lions Club - ECPv6.8.2.1//NONSGML v1.0//EN
CALSCALE:GREGORIAN
METHOD:PUBLISH
X-ORIGINAL-URL:https://sandiegolions.org
X-WR-CALDESC:Events for  Downtown San Diego Lions Club
REFRESH-INTERVAL;VALUE=DURATION:PT1H
X-Robots-Tag:noindex
X-PUBLISHED-TTL:PT1H
BEGIN:VTIMEZONE
TZID:UTC
BEGIN:STANDARD
TZOFFSETFROM:+0000
TZOFFSETTO:+0000
TZNAME:UTC
DTSTART:20250101T000000
END:STANDARD
END:VTIMEZONE
BEGIN:VEVENT
DTSTART;TZID=UTC:20250211T120000
DTEND;TZID=UTC:20250211T140000
DTSTAMP:20260421T173343
CREATED:20250115T192428Z
LAST-MODIFIED:20250115T192428Z
UID:3919-1739275200-1739282400@sandiegolions.org
SUMMARY:📣 Lunch with the Lions: Special Guest - San Diego Burn Institute
DESCRIPTION:📣 Lunch with the Lions: Special Guest – San Diego Burn Institute 🦁🍴 \n📅 Date: Tuesday\, February 11th\, 2025\n📍 Location: 310 Market St\, San Diego\, CA 92101\n🕛 Time: 12:00 PM\n💵 Fee: $20 (Pay online!) \nJoin us for an enlightening lunch featuring the San Diego Burn Institute as they discuss the critical role of smoke detectors in protecting lives and homes. This is your chance to learn valuable safety tips and gain insights into fire prevention from experts in the field. \n🖱️ Reserve your spot today—click HERE! Let’s make safety a top priority while enjoying a great meal together.
URL:https://sandiegolions.org/event/%f0%9f%93%a3-lunch-with-the-lions-special-guest-san-diego-burn-institute/
LOCATION:CA
CATEGORIES:Lunch Program
ATTACH;FMTTYPE=image/jpeg:https://sandiegolions.org/wp-content/uploads/2025/01/Copy-of-Lions-Club-San-Diego-SM-November-December-Instagram-Post-3.jpg
END:VEVENT
BEGIN:VEVENT
DTSTART;TZID=UTC:20250225T180000
DTEND;TZID=UTC:20250225T180000
DTSTAMP:20260421T173343
CREATED:20250115T192710Z
LAST-MODIFIED:20250222T011623Z
UID:3923-1740506400-1740506400@sandiegolions.org
SUMMARY:Dinner with the Lions: Special Guest - Cataract Surgeons
DESCRIPTION:📣 Dinner with the Lions: Special Guest – Cataract Surgeons 🦁🍽️ \n📅 Date: Tuesday\, February 25th\, 2025\n📍 Location: 310 Market St\, San Diego\, CA 92101\n🕕 Time: 6:00 PM\n💵 Fee: $20 \nProgram Overview:\n✨ Welcome Reception – Start the evening with light refreshments and networking opportunities.\n✨ Dinner Service – Enjoy a delectable meal in a warm and engaging atmosphere.\n✨ Keynote Presentation by Cataract Surgeons – Explore advancements in cataract surgery and learn about life-changing innovations in vision care.\n✨ Interactive Q&A Session – Get your questions answered by leading experts in the field. \nDon’t miss this inspiring and informative evening!\n🖱️ Click HERE to reserve your spot today.
URL:https://sandiegolions.org/event/dinner-with-the-lions-special-guest-cataract-surgeons/
LOCATION:CA
CATEGORIES:Dinner Program
ATTACH;FMTTYPE=image/jpeg:https://sandiegolions.org/wp-content/uploads/2025/01/Copy-of-Lions-Club-San-Diego-SM-November-December-Instagram-Post-4.jpg
END:VEVENT
END:VCALENDAR