BEGIN:VCALENDAR
VERSION:2.0
PRODID:-// Downtown San Diego Lions Club - ECPv6.8.2.1//NONSGML v1.0//EN
CALSCALE:GREGORIAN
METHOD:PUBLISH
X-ORIGINAL-URL:https://sandiegolions.org
X-WR-CALDESC:Events for  Downtown San Diego Lions Club
REFRESH-INTERVAL;VALUE=DURATION:PT1H
X-Robots-Tag:noindex
X-PUBLISHED-TTL:PT1H
BEGIN:VTIMEZONE
TZID:UTC
BEGIN:STANDARD
TZOFFSETFROM:+0000
TZOFFSETTO:+0000
TZNAME:UTC
DTSTART:20240101T000000
END:STANDARD
END:VTIMEZONE
BEGIN:VEVENT
DTSTART;VALUE=DATE:20241210
DTEND;VALUE=DATE:20241211
DTSTAMP:20260421T141453
CREATED:20241003T185234Z
LAST-MODIFIED:20241003T190025Z
UID:3695-1733788800-1733875199@sandiegolions.org
SUMMARY:Lions Holiday Party
DESCRIPTION:Lions Manor Cost TBD
URL:https://sandiegolions.org/event/lions-holiday-party/
LOCATION:Lions Manor\, 310 Market St\,\, San Diego\, CA\, 92101\, United States
ATTACH;FMTTYPE=image/jpeg:https://sandiegolions.org/wp-content/uploads/2024/10/Lions-Holiday-Party.jpg
END:VEVENT
END:VCALENDAR