BEGIN:VCALENDAR
VERSION:2.0
PRODID:-// Downtown San Diego Lions Club - ECPv6.8.2.1//NONSGML v1.0//EN
CALSCALE:GREGORIAN
METHOD:PUBLISH
X-WR-CALNAME: Downtown San Diego Lions Club
X-ORIGINAL-URL:https://sandiegolions.org
X-WR-CALDESC:Events for  Downtown San Diego Lions Club
REFRESH-INTERVAL;VALUE=DURATION:PT1H
X-Robots-Tag:noindex
X-PUBLISHED-TTL:PT1H
BEGIN:VTIMEZONE
TZID:UTC
BEGIN:STANDARD
TZOFFSETFROM:+0000
TZOFFSETTO:+0000
TZNAME:UTC
DTSTART:20260101T000000
END:STANDARD
END:VTIMEZONE
BEGIN:VEVENT
DTSTART;TZID=UTC:20260609T120000
DTEND;TZID=UTC:20260609T130000
DTSTAMP:20260425T112507
CREATED:20260423T215140Z
LAST-MODIFIED:20260424T144054Z
UID:4677-1781006400-1781010000@sandiegolions.org
SUMMARY:CELEBRATING INDEPENDENCE DAY
DESCRIPTION:Join Us for a Special Lunch Event \nSpeaker: Richard Lederer\nTopic: “Celebrating Independence Day” \n📅 Date: Tuesday\, June 9\, 2026\n⏰ Time: 12:00 PM\n📍 Location: San Diego Lions Manor\n310 Market Street\, San Diego\, CA 92101 \n💰 Cost: $20 per person \nJoin the San Diego Lions\, along with family and friends\, for a special lunch program. \nThis presentation will celebrate the spirit of Independence Day with stories\, insights\, and a deeper appreciation for our nation’s history. \n📧 RSVP & Payment:\nPlease reserve your spot in advance.\nUse the Square link to register and pay. \nSelect MEAL\, then select TUESDAY LUNCH\n👉 https://square.link/u/NS41nz1u \nWe hope you’ll join us for this fun and patriotic event. ✨
URL:https://sandiegolions.org/event/celebrating-independence-day/
LOCATION:Lions Manor\, 310 Market St\,\, San Diego\, CA\, 92101\, United States
CATEGORIES:Lunch Program
ATTACH;FMTTYPE=image/jpeg:https://sandiegolions.org/wp-content/uploads/2026/04/Independence-Day-celebration-Lunch-Event-V.02.jpg
END:VEVENT
END:VCALENDAR