BEGIN:VCALENDAR
VERSION:2.0
PRODID:-// Downtown San Diego Lions Club - ECPv6.8.2.1//NONSGML v1.0//EN
CALSCALE:GREGORIAN
METHOD:PUBLISH
X-WR-CALNAME: Downtown San Diego Lions Club
X-ORIGINAL-URL:https://sandiegolions.org
X-WR-CALDESC:Events for  Downtown San Diego Lions Club
REFRESH-INTERVAL;VALUE=DURATION:PT1H
X-Robots-Tag:noindex
X-PUBLISHED-TTL:PT1H
BEGIN:VTIMEZONE
TZID:UTC
BEGIN:STANDARD
TZOFFSETFROM:+0000
TZOFFSETTO:+0000
TZNAME:UTC
DTSTART:20250101T000000
END:STANDARD
END:VTIMEZONE
BEGIN:VEVENT
DTSTART;TZID=UTC:20250513T120000
DTEND;TZID=UTC:20250513T130000
DTSTAMP:20260422T012922
CREATED:20250512T230806Z
LAST-MODIFIED:20250512T230913Z
UID:4236-1747137600-1747141200@sandiegolions.org
SUMMARY:🐾 Have Lunch with the Lions! 🐾
DESCRIPTION:🐾 Have Lunch with the Lions! 🐾Join us Tuesday\, May 13 at Noon at Lions Manor — 310 Market St\, San Diego\, CA 92101 — for a meaningful afternoon with Jose Ayala\, Program Manager for Transitional Age Youth Housing at San Diego Youth Services. Hear how local efforts are making a difference for transitional age youth\, and enjoy lunch with fellow Lions and community members. \n💵 Cost: $20🔗 Pay here: paypal.com/ncp/payment/YR2KMGUJLM84E📧 R.S.V.P. to sdlionsclub@gmail.com \n#SanDiegoLionsClub #LunchWithTheLions #SanDiegoYouth #CommunitySupport #LionsClubInternational #GiveBackSanDiego #SanDiegoEvents
URL:https://sandiegolions.org/event/%f0%9f%90%be-have-lunch-with-the-lions-%f0%9f%90%be/
LOCATION:310 Market St\, San Diego\, CA 92101
CATEGORIES:Lunch Program
ATTACH;FMTTYPE=image/jpeg:https://sandiegolions.org/wp-content/uploads/2025/05/Lions-Club-San-Diego-SM-MAY-2025-Instagram-Post-JILL.jpg
END:VEVENT
END:VCALENDAR