BEGIN:VCALENDAR
VERSION:2.0
PRODID:-// Downtown San Diego Lions Club - ECPv6.8.2.1//NONSGML v1.0//EN
CALSCALE:GREGORIAN
METHOD:PUBLISH
X-ORIGINAL-URL:https://sandiegolions.org
X-WR-CALDESC:Events for  Downtown San Diego Lions Club
REFRESH-INTERVAL;VALUE=DURATION:PT1H
X-Robots-Tag:noindex
X-PUBLISHED-TTL:PT1H
BEGIN:VTIMEZONE
TZID:UTC
BEGIN:STANDARD
TZOFFSETFROM:+0000
TZOFFSETTO:+0000
TZNAME:UTC
DTSTART:20250101T000000
END:STANDARD
END:VTIMEZONE
BEGIN:VEVENT
DTSTART;TZID=UTC:20250311T120000
DTEND;TZID=UTC:20250311T140000
DTSTAMP:20260421T204609
CREATED:20250310T185041Z
LAST-MODIFIED:20250310T232846Z
UID:4075-1741694400-1741701600@sandiegolions.org
SUMMARY:Connect with local non-profits
DESCRIPTION:📣 Join Us for a Special Event! 🦁✨ \n📅 Date: March 11th⏰ Time: 12:00 Noon📍 Location: Various Non-Profits💰 Price: $20 \nConnect with local non-profits and make a difference in our community! This is a great opportunity to network\, learn\, and support meaningful causes. \n🔗 RSVP now to secure your spot!
URL:https://sandiegolions.org/event/connect-with-local-non-profits/
LOCATION:CA
CATEGORIES:Lunch Program
ATTACH;FMTTYPE=image/jpeg:https://sandiegolions.org/wp-content/uploads/2025/03/San-Diego-Lions-Club-Lunch-non-Profits.jpg
END:VEVENT
END:VCALENDAR